Workbook

Sheet Årshjul A4
B1: ="Årshjul "&B22 -> Årshjul 2026 | H1: =B1 -> Årshjul 2026
B2: Skriv kvartalernes opgaver
B3: 1. kvartal | C3: 2. kvartal | D3: 3. kvartal | E3: 4. kvartal
B4: Skriv opgave | C4: "Særligt kvalitetsfokus" | D4: Medarbejdersamtaler | E4: "Særligt kvalitetsfokus"
B6: Skriv måneds opgaver | C6: Opgave 1 | D6: Opgave 2 | E6: Opgave3
B7: Januar | C7: Akutudstyr
B8: Februar | C8: Apparatur X | D8: Medicin i klinikken
B9: Marts | C9: Apparatur Y | D9: Patient-information
B10: April | C10: Database x | D10: Prøvesvar
B11: Maj | C11: Databehandler-aftaler | D11: Rengøring - kontrol
B12: Juni | C12: Hjemmeside | D12: Retningslinjer - kliniske
B13: Juli | C13: Hændelser (UTH, klager, erstatningssager, akutte situationer) | D13: Retningslinjer - lokale
B14: August | C14: Introduktions-materiale | D14: Risikotjek i klinikken
B15: September | C15: Journalaudit | D15: Sterilisationsprocessen - kontrol af
B16: Oktober | C16: Kompetenceudvikling - læger | D16: Utensilier - kontrol af
B17: November | C17: Kursus i hjerte-lunge-redning
B18: December | C18: Kvalitetsdata (Opfølgning)
B21: Vælg årstal:
B22: 2026
B24: Skriv kun opgaver i de grå celler
B25: Undgå mere end ca. 25 tegn pr. månedsopgave
B26: Undgå mere end ca. 50 tegn pr. kvartalsopgave
B27: Der kan ikke tilføjes flere opgaver pr. måned

Sheet Setup
A1: Årshjul
A2: ="4. kvartal" & IF('Årshjul A4'!E4="skriv opgave","",": "&'Årshjul A4'!E4) -> 4. kvartal: "Særligt kvalitetsfokus" | B2: December | C2: =IF(TEXT('Årshjul A4'!C18,)=""," ",'Årshjul A4'!C18) -> Kvalitetsdata (Opfølgning) | D2: =1/3 -> 0.33333333
C3: =IF(TEXT('Årshjul A4'!D18,)=""," ",'Årshjul A4'!D18) | D3: =1/3 -> 0.33333333
C4: =IF(TEXT('Årshjul A4'!E18,)=""," ",'Årshjul A4'!E18) | D4: =1/3 -> 0.33333333
B5: November | C5: =IF(TEXT('Årshjul A4'!C17,)=""," ",'Årshjul A4'!C17) -> Kursus i hjerte-lunge-redning | D5: =1/3 -> 0.33333333
C6: =IF(TEXT('Årshjul A4'!D17,)=""," ",'Årshjul A4'!D17) | D6: =1/3 -> 0.33333333
C7: =IF(TEXT('Årshjul A4'!E17,)=""," ",'Årshjul A4'!E17) | D7: =1/3 -> 0.33333333
B8: Oktober | C8: =IF(TEXT('Årshjul A4'!C16,)=""," ",'Årshjul A4'!C16) -> Kompetenceudvikling - læger | D8: =1/3 -> 0.33333333
C9: =IF(TEXT('Årshjul A4'!D16,)=""," ",'Årshjul A4'!D16) -> Utensilier - kontrol af | D9: =1/3 -> 0.33333333
C10: =IF(TEXT('Årshjul A4'!E16,)=""," ",'Årshjul A4'!E16) | D10: =1/3 -> 0.33333333
A11: ="3. kvartal" & IF('Årshjul A4'!D4="skriv opgave","",": "&'Årshjul A4'!D4) -> 3. kvartal: Medarbejdersamtaler | B11: September | C11: =IF(TEXT('Årshjul A4'!C15,)=""," ",'Årshjul A4'!C15) -> Journalaudit | D11: =1/3 -> 0.33333333
C12: =IF(TEXT('Årshjul A4'!D15,)=""," ",'Årshjul A4'!D15) -> Sterilisationsprocessen - kontrol af | D12: =1/3 -> 0.33333333
C13: =IF(TEXT('Årshjul A4'!E15,)=""," ",'Årshjul A4'!E15) | D13: =1/3 -> 0.33333333
B14: August | C14: =IF(TEXT('Årshjul A4'!C14,)=""," ",'Årshjul A4'!C14) -> Introduktions-materiale | D14: =1/3 -> 0.33333333
C15: =IF(TEXT('Årshjul A4'!D14,)=""," ",'Årshjul A4'!D14) -> Risikotjek i klinikken | D15: =1/3 -> 0.33333333
C16: =IF(TEXT('Årshjul A4'!E14,)=""," ",'Årshjul A4'!E14) | D16: =1/3 -> 0.33333333
B17: Juli | C17: =IF(TEXT('Årshjul A4'!C13,)=""," ",'Årshjul A4'!C13) -> Hændelser (UTH, klager, erstatningssager, akutte situationer) | D17: =1/3 -> 0.33333333
C18: =IF(TEXT('Årshjul A4'!D13,)=""," ",'Årshjul A4'!D13) -> Retningslinjer - lokale | D18: =1/3 -> 0.33333333
C19: =IF(TEXT('Årshjul A4'!E13,)=""," ",'Årshjul A4'!E13) | D19: =1/3 -> 0.33333333
A20: ="2. kvartal" & IF('Årshjul A4'!C4="skriv opgave","",": "&'Årshjul A4'!C4) -> 2. kvartal: "Særligt kvalitetsfokus" | B20: Juni | C20: =IF(TEXT('Årshjul A4'!C12,)=""," ",'Årshjul A4'!C12) -> Hjemmeside | D20: =1/3 -> 0.33333333
C21: =IF(TEXT('Årshjul A4'!D12,)=""," ",'Årshjul A4'!D12) -> Retningslinjer - kliniske | D21: =1/3 -> 0.33333333
C22: =IF(TEXT('Årshjul A4'!E12,)=""," ",'Årshjul A4'!E12) | D22: =1/3 -> 0.33333333
B23: Maj | C23: =IF(TEXT('Årshjul A4'!C11,)=""," ",'Årshjul A4'!C11) -> Databehandler-aftaler | D23: =1/3 -> 0.33333333
C24: =IF(TEXT('Årshjul A4'!D11,)=""," ",'Årshjul A4'!D11) -> Rengøring - kontrol | D24: =1/3 -> 0.33333333
C25: =IF(TEXT('Årshjul A4'!E11,)=""," ",'Årshjul A4'!E11) | D25: =1/3 -> 0.33333333
B26: April | C26: =IF(TEXT('Årshjul A4'!C10,)=""," ",'Årshjul A4'!C10) -> Database x | D26: =1/3 -> 0.33333333
C27: =IF(TEXT('Årshjul A4'!D10,)=""," ",'Årshjul A4'!D10) -> Prøvesvar | D27: =1/3 -> 0.33333333
C28: =IF(TEXT('Årshjul A4'!E10,)=""," ",'Årshjul A4'!E10) | D28: =1/3 -> 0.33333333
A29: ="1. kvartal" & IF('Årshjul A4'!B4="skriv opgave","",": "&'Årshjul A4'!B4) -> 1. kvartal | B29: Marts | C29: =IF(TEXT('Årshjul A4'!C9,)=""," ",'Årshjul A4'!C9) -> Apparatur Y | D29: =1/3 -> 0.33333333
C30: =IF(TEXT('Årshjul A4'!D9,)=""," ",'Årshjul A4'!D9) -> Patient-information | D30: =1/3 -> 0.33333333
C31: =IF(TEXT('Årshjul A4'!E9,)=""," ",'Årshjul A4'!E9) | D31: =1/3 -> 0.33333333
B32: Februar | C32: =IF(TEXT('Årshjul A4'!C8,)=""," ",'Årshjul A4'!C8) -> Apparatur X | D32: =1/3 -> 0.33333333
C33: =IF(TEXT('Årshjul A4'!D8,)=""," ",'Årshjul A4'!D8) -> Medicin i klinikken | D33: =1/3 -> 0.33333333
C34: =IF(TEXT('Årshjul A4'!E8,)=""," ",'Årshjul A4'!E8) | D34: =1/3 -> 0.33333333
B35: Januar | C35: =IF(TEXT('Årshjul A4'!C7,)=""," ",'Årshjul A4'!C7) -> Akutudstyr | D35: =1/3 -> 0.33333333
C36: =IF(TEXT('Årshjul A4'!D7,)=""," ",'Årshjul A4'!D7) | D36: =1/3 -> 0.33333333
C37: =IF(TEXT('Årshjul A4'!E7,)=""," ",'Årshjul A4'!E7) | D37: =1/3 -> 0.33333333
